BEGIN:VCALENDAR
VERSION:2.0
PRODID:-//eventon.com NONSGML v1.0//EN
CALSCALE:GREGORIAN
METHOD:PUBLISH
BEGIN:VEVENT
UID:69e9ec68bd1b5
DTSTAMP:20260423T095448Z
DTSTART:20260425T180000Z
DTEND:20260425T190500Z
LOCATION:
SUMMARY:Georgia: Ranina 2026
DESCRIPTION:Georgia: Ranina 2026\nhttps://www.escplus.es/events/georgia-ran
 ina-2026-sw4/
URL:https://www.escplus.es/events/georgia-ranina-2026-sw4/
END:VEVENT
END:VCALENDAR